BEGIN:VCALENDAR
VERSION:2.0
PRODID:-//WMAN - West Mount Airy Neighbors - ECPv6.15.20//NONSGML v1.0//EN
CALSCALE:GREGORIAN
METHOD:PUBLISH
X-ORIGINAL-URL:https://wman.net
X-WR-CALDESC:Events for WMAN - West Mount Airy Neighbors
REFRESH-INTERVAL;VALUE=DURATION:PT1H
X-Robots-Tag:noindex
X-PUBLISHED-TTL:PT1H
BEGIN:VTIMEZONE
TZID:America/New_York
BEGIN:DAYLIGHT
TZOFFSETFROM:-0500
TZOFFSETTO:-0400
TZNAME:EDT
DTSTART:20220313T070000
END:DAYLIGHT
BEGIN:STANDARD
TZOFFSETFROM:-0400
TZOFFSETTO:-0500
TZNAME:EST
DTSTART:20221106T060000
END:STANDARD
BEGIN:DAYLIGHT
TZOFFSETFROM:-0500
TZOFFSETTO:-0400
TZNAME:EDT
DTSTART:20230312T070000
END:DAYLIGHT
BEGIN:STANDARD
TZOFFSETFROM:-0400
TZOFFSETTO:-0500
TZNAME:EST
DTSTART:20231105T060000
END:STANDARD
BEGIN:DAYLIGHT
TZOFFSETFROM:-0500
TZOFFSETTO:-0400
TZNAME:EDT
DTSTART:20240310T070000
END:DAYLIGHT
BEGIN:STANDARD
TZOFFSETFROM:-0400
TZOFFSETTO:-0500
TZNAME:EST
DTSTART:20241103T060000
END:STANDARD
BEGIN:DAYLIGHT
TZOFFSETFROM:-0500
TZOFFSETTO:-0400
TZNAME:EDT
DTSTART:20250309T070000
END:DAYLIGHT
BEGIN:STANDARD
TZOFFSETFROM:-0400
TZOFFSETTO:-0500
TZNAME:EST
DTSTART:20251102T060000
END:STANDARD
END:VTIMEZONE
BEGIN:VEVENT
DTSTART;TZID=America/New_York:20240614T180000
DTEND;TZID=America/New_York:20240614T200000
DTSTAMP:20260422T063728
CREATED:20240610T154849Z
LAST-MODIFIED:20240610T154849Z
UID:10000156-1718388000-1718395200@wman.net
SUMMARY:PLANT SWAP!
DESCRIPTION:You don’t have to bring plants to take or take plants to give! \nJust come share in some fun plant sharing!
URL:https://wman.net/event/plant-swap/
LOCATION:Mt Airy EcoLab\, 330 Carpenter Lane\, Philadelphia\, PA\, 19119\, United States
ATTACH;FMTTYPE=image/jpeg:https://wman.net/wp-content/uploads/2024/06/Plant-Swap.jpg
END:VEVENT
BEGIN:VEVENT
DTSTART;TZID=America/New_York:20231028T150000
DTEND;TZID=America/New_York:20231028T180000
DTSTAMP:20260422T063728
CREATED:20231002T195834Z
LAST-MODIFIED:20231016T142430Z
UID:10000049-1698505200-1698516000@wman.net
SUMMARY:Fall Barbeque
DESCRIPTION:WMAN BBQ October 28  \nBuy Tickets Now.
URL:https://wman.net/event/fall-barbeque/
LOCATION:Mt Airy EcoLab\, 330 Carpenter Lane\, Philadelphia\, PA\, 19119\, United States
CATEGORIES:Neighborhood Events
ORGANIZER;CN="WMAN":MAILTO:josephine.winter@wman.net
END:VEVENT
BEGIN:VEVENT
DTSTART;TZID=America/New_York:20230826T083000
DTEND;TZID=America/New_York:20230826T113000
DTSTAMP:20260422T063728
CREATED:20230818T173132Z
LAST-MODIFIED:20230821T153223Z
UID:10000053-1693038600-1693049400@wman.net
SUMMARY:EcoLab Biodiversity Survey
DESCRIPTION:Calling all naturalists\, citizen scientists\, and neighbors of all ages! We are looking for volunteers to help us get a biodiversity baseline for the Ecolab space at the SEPTA Carpenter Train Station. We’ll be using the free app iNaturalist.org to take pictures and identify as many species as we can. Knowing what species are present gives us insights into the ecological health of the landscape and ideas on how we might strategically increase biodiversity and resilience over time. \nPlease bring a phone with the iNaturalist app installed\, water\, gloves\, hat\, bugs pray. Sorry\, there are no bathrooms on site. \n 
URL:https://wman.net/event/ecolab-biodiversity-survey/
LOCATION:Mt Airy EcoLab\, 330 Carpenter Lane\, Philadelphia\, PA\, 19119\, United States
CATEGORIES:Neighborhood Events
END:VEVENT
BEGIN:VEVENT
DTSTART;TZID=America/New_York:20230825T180000
DTEND;TZID=America/New_York:20230825T200000
DTSTAMP:20260422T063728
CREATED:20230818T172112Z
LAST-MODIFIED:20230818T172112Z
UID:10000055-1692986400-1692993600@wman.net
SUMMARY:Mt Airy EcoLab Social & Work party
DESCRIPTION:Join us at the Mt Airy EcoLab\, located at the Carpenter Station. Help us weed knotweed\, spread wood chips\, and enjoy this lush community space. Cold treats provided.
URL:https://wman.net/event/mt-airy-ecolab-social-work-party/
LOCATION:Mt Airy EcoLab\, 330 Carpenter Lane\, Philadelphia\, PA\, 19119\, United States
END:VEVENT
END:VCALENDAR