BEGIN:VCALENDAR
VERSION:2.0
PRODID:-//WMAN - West Mount Airy Neighbors - ECPv6.15.20//NONSGML v1.0//EN
CALSCALE:GREGORIAN
METHOD:PUBLISH
X-ORIGINAL-URL:https://wman.net
X-WR-CALDESC:Events for WMAN - West Mount Airy Neighbors
REFRESH-INTERVAL;VALUE=DURATION:PT1H
X-Robots-Tag:noindex
X-PUBLISHED-TTL:PT1H
BEGIN:VTIMEZONE
TZID:America/New_York
BEGIN:DAYLIGHT
TZOFFSETFROM:-0500
TZOFFSETTO:-0400
TZNAME:EDT
DTSTART:20230312T070000
END:DAYLIGHT
BEGIN:STANDARD
TZOFFSETFROM:-0400
TZOFFSETTO:-0500
TZNAME:EST
DTSTART:20231105T060000
END:STANDARD
BEGIN:DAYLIGHT
TZOFFSETFROM:-0500
TZOFFSETTO:-0400
TZNAME:EDT
DTSTART:20240310T070000
END:DAYLIGHT
BEGIN:STANDARD
TZOFFSETFROM:-0400
TZOFFSETTO:-0500
TZNAME:EST
DTSTART:20241103T060000
END:STANDARD
BEGIN:DAYLIGHT
TZOFFSETFROM:-0500
TZOFFSETTO:-0400
TZNAME:EDT
DTSTART:20250309T070000
END:DAYLIGHT
BEGIN:STANDARD
TZOFFSETFROM:-0400
TZOFFSETTO:-0500
TZNAME:EST
DTSTART:20251102T060000
END:STANDARD
END:VTIMEZONE
BEGIN:VEVENT
DTSTART;TZID=America/New_York:20240616T170000
DTEND;TZID=America/New_York:20240616T190000
DTSTAMP:20260423T052217
CREATED:20240501T164654Z
LAST-MODIFIED:20240501T164654Z
UID:10000130-1718557200-1718564400@wman.net
SUMMARY:Chestnut Hill West Stations Concert
DESCRIPTION:Save the date for Thursday May 16th! \nWe will be hosting a multi-site concert along the Chestnut Hill West line. We will meet at 5pm at Chelten Station for a set featuring Dani Hawkins\, a local cellist. Then we will all hop on the CHW and head to Tulpehocken station. Dani will join Midnight on the Water\, a string ensemble for a set at 5:30pm. Then we will load up on the train once more to Carpenter Lane Station for the musicians to join @koof for the biggest set of the night starting at 6:20pm. It’s going to be a blast. We hope you can join us!\nThese concerts will take place in the parking lots of each station. The rain date is Tuesday May 21st. Feel free to bring food and drinks for a post concert picnic at the EcoLab!
URL:https://wman.net/event/chestnut-hill-west-stations-concert/
LOCATION:Chelten Station\, 359 W Chelten Ave\, Philadelphia\, PA\, 19144\, United States
CATEGORIES:Public Transit
ATTACH;FMTTYPE=image/jpeg:https://wman.net/wp-content/uploads/2024/05/unnamed.jpg
ORGANIZER;CN="SaveTheTrain":MAILTO:anne.dicker@wman.net
END:VEVENT
BEGIN:VEVENT
DTSTART;TZID=America/New_York:20240516T170000
DTEND;TZID=America/New_York:20240516T190000
DTSTAMP:20260423T052217
CREATED:20240509T175855Z
LAST-MODIFIED:20240509T175855Z
UID:10000143-1715878800-1715886000@wman.net
SUMMARY:Music Fest on the Chestnut Hill West
DESCRIPTION:We will be hosting a multi-site concert along the Chestnut Hill West line. We will meet at 5pm at Chelten Station for a set featuring Dani Hawkins\, a local cellist. Then we will all hop on the CHW and head to Tulpehocken station. Dani will join Midnight on the Water\, a string ensemble for a set at 5:30pm. Then we will load up on the train once more to Carpenter Lane Station for the musicians to join Koof for the biggest set of the night starting at 6:20pm. It’s going to be a blast. We hope you can join us!\nThese concerts will take place in the parking lots of each station. The rain date is Tuesday May 21st. Feel free to bring food and drinks for a post concert picnic at the EcoLab!
URL:https://wman.net/event/music-fest-on-the-chestnut-hill-west/
CATEGORIES:Family,Public Transit
ATTACH;FMTTYPE=image/png:https://wman.net/wp-content/uploads/2024/05/Music-Fest-On-The-CHW-Insta-second-revision.png
ORGANIZER;CN="SaveTheTrain":MAILTO:anne.dicker@wman.net
END:VEVENT
BEGIN:VEVENT
DTSTART;TZID=America/New_York:20240214T120000
DTEND;TZID=America/New_York:20240214T130000
DTSTAMP:20260423T052218
CREATED:20240201T173532Z
LAST-MODIFIED:20240201T173929Z
UID:10000098-1707912000-1707915600@wman.net
SUMMARY:Rally to Save the Train @ Tulpehocken Station
DESCRIPTION:Ride and Rally to Save the Chestnut Hill West train line at the Tulpehocken Station at noon\, February 14th. \n333 W. Tulpehocken Street
URL:https://wman.net/event/save-the-train-at-tulpehocken/
CATEGORIES:Neighborhood Events,Public Transit
ATTACH;FMTTYPE=image/png:https://wman.net/wp-content/uploads/2024/02/Untitled-512-x-512-px-1.png
ORGANIZER;CN="SaveTheTrain":MAILTO:anne.dicker@wman.net
END:VEVENT
END:VCALENDAR