BEGIN:VCALENDAR
VERSION:2.0
PRODID:-//WMAN - West Mount Airy Neighbors - ECPv6.15.20//NONSGML v1.0//EN
CALSCALE:GREGORIAN
METHOD:PUBLISH
X-WR-CALNAME:WMAN - West Mount Airy Neighbors
X-ORIGINAL-URL:https://wman.net
X-WR-CALDESC:Events for WMAN - West Mount Airy Neighbors
REFRESH-INTERVAL;VALUE=DURATION:PT1H
X-Robots-Tag:noindex
X-PUBLISHED-TTL:PT1H
BEGIN:VTIMEZONE
TZID:America/New_York
BEGIN:DAYLIGHT
TZOFFSETFROM:-0500
TZOFFSETTO:-0400
TZNAME:EDT
DTSTART:20250309T070000
END:DAYLIGHT
BEGIN:STANDARD
TZOFFSETFROM:-0400
TZOFFSETTO:-0500
TZNAME:EST
DTSTART:20251102T060000
END:STANDARD
BEGIN:DAYLIGHT
TZOFFSETFROM:-0500
TZOFFSETTO:-0400
TZNAME:EDT
DTSTART:20260308T070000
END:DAYLIGHT
BEGIN:STANDARD
TZOFFSETFROM:-0400
TZOFFSETTO:-0500
TZNAME:EST
DTSTART:20261101T060000
END:STANDARD
BEGIN:DAYLIGHT
TZOFFSETFROM:-0500
TZOFFSETTO:-0400
TZNAME:EDT
DTSTART:20270314T070000
END:DAYLIGHT
BEGIN:STANDARD
TZOFFSETFROM:-0400
TZOFFSETTO:-0500
TZNAME:EST
DTSTART:20271107T060000
END:STANDARD
END:VTIMEZONE
BEGIN:VEVENT
DTSTART;TZID=America/New_York:20260526T183000
DTEND;TZID=America/New_York:20260526T200000
DTSTAMP:20260421T201535
CREATED:20260421T021521Z
LAST-MODIFIED:20260421T021934Z
UID:10000835-1779820200-1779825600@wman.net
SUMMARY:Old House Care Workshops 2026
DESCRIPTION:Intro to Window Repair (Lecture Demonstration)\nTuesday May 26th\, 2026 | 6:30pm-8:00pm\nRay Tschoepe and Andrew Staples\n$10\nLearn about window anatomy\, repairing rotted wood\, glass replacement\, reglazing\, and sash repair.\nRegister:  bit.ly/house-care-workshops-2026
URL:https://wman.net/event/old-house-care-workshops-2026/
LOCATION:Cliveden\, 98 East Cliveden St.\, Philadelphia\, PA\, 19119\, United States
END:VEVENT
BEGIN:VEVENT
DTSTART;TZID=America/New_York:20260602T183000
DTEND;TZID=America/New_York:20260602T200000
DTSTAMP:20260421T201535
CREATED:20260421T022229Z
LAST-MODIFIED:20260421T022613Z
UID:10000837-1780425000-1780430400@wman.net
SUMMARY:Old House Care Workshops 2026
DESCRIPTION:Hands-On Window Reglazing\nTuesday June 2nd\, 2026 | 6:30pm-8:00pm\nAmy Ricci\nLimited spots due to the hands-on nature of the class!\n$30\nAfter reviewing the types and components of historic windows\, get hands-on with the glass cutting and putty work needed for reglazing windows.\nRegister:  bit.ly/house-care-workshops-2026
URL:https://wman.net/event/old-house-care-workshops-2026-2/
LOCATION:Cliveden\, 98 East Cliveden St.\, Philadelphia\, PA\, 19119\, United States
END:VEVENT
BEGIN:VEVENT
DTSTART;TZID=America/New_York:20260609T183000
DTEND;TZID=America/New_York:20260609T200000
DTSTAMP:20260421T201535
CREATED:20260421T022519Z
LAST-MODIFIED:20260421T022726Z
UID:10000838-1781029800-1781035200@wman.net
SUMMARY:Old House Care Workshops 2026
DESCRIPTION:Interior/Exterior Historic Painting Dos and Don’ts!\nTuesday June 9th\, 2026 | 6:30pm-8:00pm\nTom Heiler\n$10\nThis presentation will cover common problem areas like dealing with exposed wood\, cracks in stucco\, and generally what to look for and how to make repairs.\nRegister:  bit.ly/house-care-workshops-2026
URL:https://wman.net/event/old-house-care-workshops-2026-3/
LOCATION:Cliveden\, 98 East Cliveden St.\, Philadelphia\, PA\, 19119\, United States
END:VEVENT
BEGIN:VEVENT
DTSTART;VALUE=DATE:20260701
DTEND;VALUE=DATE:20260702
DTSTAMP:20260421T201535
CREATED:20250906T122511Z
LAST-MODIFIED:20250906T122718Z
UID:10000763-1782864000-1782950399@wman.net
SUMMARY:Singing for Sanity: We the People Wednesdays
DESCRIPTION:https://www.mobilize.us/wethepeoplewednesdays/event/796690/
URL:https://wman.net/event/singing-for-sanity-we-the-people-wednesdays/2026-07-01/
LOCATION:PA
END:VEVENT
BEGIN:VEVENT
DTSTART;VALUE=DATE:20260812
DTEND;VALUE=DATE:20260813
DTSTAMP:20260421T201535
CREATED:20250906T122511Z
LAST-MODIFIED:20250906T122718Z
UID:10000764-1786492800-1786579199@wman.net
SUMMARY:Singing for Sanity: We the People Wednesdays
DESCRIPTION:https://www.mobilize.us/wethepeoplewednesdays/event/796690/
URL:https://wman.net/event/singing-for-sanity-we-the-people-wednesdays/2026-08-12/
LOCATION:PA
END:VEVENT
BEGIN:VEVENT
DTSTART;VALUE=DATE:20260923
DTEND;VALUE=DATE:20260924
DTSTAMP:20260421T201535
CREATED:20250906T122511Z
LAST-MODIFIED:20250906T122718Z
UID:10000765-1790121600-1790207999@wman.net
SUMMARY:Singing for Sanity: We the People Wednesdays
DESCRIPTION:https://www.mobilize.us/wethepeoplewednesdays/event/796690/
URL:https://wman.net/event/singing-for-sanity-we-the-people-wednesdays/2026-09-23/
LOCATION:PA
END:VEVENT
BEGIN:VEVENT
DTSTART;VALUE=DATE:20261104
DTEND;VALUE=DATE:20261105
DTSTAMP:20260421T201535
CREATED:20250906T122511Z
LAST-MODIFIED:20250906T122718Z
UID:10000766-1793750400-1793836799@wman.net
SUMMARY:Singing for Sanity: We the People Wednesdays
DESCRIPTION:https://www.mobilize.us/wethepeoplewednesdays/event/796690/
URL:https://wman.net/event/singing-for-sanity-we-the-people-wednesdays/2026-11-04/
LOCATION:PA
END:VEVENT
BEGIN:VEVENT
DTSTART;VALUE=DATE:20261216
DTEND;VALUE=DATE:20261217
DTSTAMP:20260421T201535
CREATED:20250906T122511Z
LAST-MODIFIED:20250906T122718Z
UID:10000767-1797379200-1797465599@wman.net
SUMMARY:Singing for Sanity: We the People Wednesdays
DESCRIPTION:https://www.mobilize.us/wethepeoplewednesdays/event/796690/
URL:https://wman.net/event/singing-for-sanity-we-the-people-wednesdays/2026-12-16/
LOCATION:PA
END:VEVENT
END:VCALENDAR