BEGIN:VCALENDAR
VERSION:2.0
PRODID:-//WMAN - West Mount Airy Neighbors - ECPv6.15.20//NONSGML v1.0//EN
CALSCALE:GREGORIAN
METHOD:PUBLISH
X-WR-CALNAME:WMAN - West Mount Airy Neighbors
X-ORIGINAL-URL:https://wman.net
X-WR-CALDESC:Events for WMAN - West Mount Airy Neighbors
REFRESH-INTERVAL;VALUE=DURATION:PT1H
X-Robots-Tag:noindex
X-PUBLISHED-TTL:PT1H
BEGIN:VTIMEZONE
TZID:America/New_York
BEGIN:DAYLIGHT
TZOFFSETFROM:-0500
TZOFFSETTO:-0400
TZNAME:EDT
DTSTART:20230312T070000
END:DAYLIGHT
BEGIN:STANDARD
TZOFFSETFROM:-0400
TZOFFSETTO:-0500
TZNAME:EST
DTSTART:20231105T060000
END:STANDARD
BEGIN:DAYLIGHT
TZOFFSETFROM:-0500
TZOFFSETTO:-0400
TZNAME:EDT
DTSTART:20240310T070000
END:DAYLIGHT
BEGIN:STANDARD
TZOFFSETFROM:-0400
TZOFFSETTO:-0500
TZNAME:EST
DTSTART:20241103T060000
END:STANDARD
BEGIN:DAYLIGHT
TZOFFSETFROM:-0500
TZOFFSETTO:-0400
TZNAME:EDT
DTSTART:20250309T070000
END:DAYLIGHT
BEGIN:STANDARD
TZOFFSETFROM:-0400
TZOFFSETTO:-0500
TZNAME:EST
DTSTART:20251102T060000
END:STANDARD
END:VTIMEZONE
BEGIN:VEVENT
DTSTART;TZID=America/New_York:20240326T173000
DTEND;TZID=America/New_York:20240326T190000
DTSTAMP:20260422T054643
CREATED:20240305T193950Z
LAST-MODIFIED:20240305T194129Z
UID:10000110-1711474200-1711479600@wman.net
SUMMARY:Tree Canvassing
DESCRIPTION:Join our efforts to keep Mt. Airy Green and create more share on our least shady blocks. We’ll be connecting with our neighbors to share the joy of trees\, informing them about the free trees they can apply for for their home\, and answering any questions related to getting a free tree through the PHS Tree Tender program. PLEASE EMAIL LIZ TO RSVP and for details about meeting place & updates to timing: lizhersh@gmail.com
URL:https://wman.net/event/tree-canvassing/2024-03-26/
CATEGORIES:Tree Tenders
ATTACH;FMTTYPE=image/png:https://wman.net/wp-content/uploads/2024/03/2.png
ORGANIZER;CN="Mt. Airy Tree Tenders":MAILTO:anne.dicker@wman.net
END:VEVENT
BEGIN:VEVENT
DTSTART;TZID=America/New_York:20240312T173000
DTEND;TZID=America/New_York:20240312T190000
DTSTAMP:20260422T054643
CREATED:20240305T193950Z
LAST-MODIFIED:20240305T194129Z
UID:10000108-1710264600-1710270000@wman.net
SUMMARY:Tree Canvassing
DESCRIPTION:Join our efforts to keep Mt. Airy Green and create more share on our least shady blocks. We’ll be connecting with our neighbors to share the joy of trees\, informing them about the free trees they can apply for for their home\, and answering any questions related to getting a free tree through the PHS Tree Tender program. PLEASE EMAIL LIZ TO RSVP and for details about meeting place & updates to timing: lizhersh@gmail.com
URL:https://wman.net/event/tree-canvassing/2024-03-12/
CATEGORIES:Tree Tenders
ATTACH;FMTTYPE=image/png:https://wman.net/wp-content/uploads/2024/03/2.png
ORGANIZER;CN="Mt. Airy Tree Tenders":MAILTO:anne.dicker@wman.net
END:VEVENT
END:VCALENDAR