BEGIN:VCALENDAR
VERSION:2.0
PRODID:-//WMAN - West Mount Airy Neighbors - ECPv6.15.20//NONSGML v1.0//EN
CALSCALE:GREGORIAN
METHOD:PUBLISH
X-WR-CALNAME:WMAN - West Mount Airy Neighbors
X-ORIGINAL-URL:https://wman.net
X-WR-CALDESC:Events for WMAN - West Mount Airy Neighbors
REFRESH-INTERVAL;VALUE=DURATION:PT1H
X-Robots-Tag:noindex
X-PUBLISHED-TTL:PT1H
BEGIN:VTIMEZONE
TZID:America/New_York
BEGIN:DAYLIGHT
TZOFFSETFROM:-0500
TZOFFSETTO:-0400
TZNAME:EDT
DTSTART:20230312T070000
END:DAYLIGHT
BEGIN:STANDARD
TZOFFSETFROM:-0400
TZOFFSETTO:-0500
TZNAME:EST
DTSTART:20231105T060000
END:STANDARD
BEGIN:DAYLIGHT
TZOFFSETFROM:-0500
TZOFFSETTO:-0400
TZNAME:EDT
DTSTART:20240310T070000
END:DAYLIGHT
BEGIN:STANDARD
TZOFFSETFROM:-0400
TZOFFSETTO:-0500
TZNAME:EST
DTSTART:20241103T060000
END:STANDARD
BEGIN:DAYLIGHT
TZOFFSETFROM:-0500
TZOFFSETTO:-0400
TZNAME:EDT
DTSTART:20250309T070000
END:DAYLIGHT
BEGIN:STANDARD
TZOFFSETFROM:-0400
TZOFFSETTO:-0500
TZNAME:EST
DTSTART:20251102T060000
END:STANDARD
END:VTIMEZONE
BEGIN:VEVENT
DTSTART;TZID=America/New_York:20241129T180000
DTEND;TZID=America/New_York:20241129T200000
DTSTAMP:20260419T131929
CREATED:20240509T175939Z
LAST-MODIFIED:20240820T184005Z
UID:10000183-1732903200-1732910400@wman.net
SUMMARY:Fridays at the EcoLab
DESCRIPTION:We are getting together to work on the Mt. Airy EcoLab\, enjoy the space\, and eat a sweet treat. \nFridays from 6:00 – 8:00 pm at the Mt. Airy EcoLab at Carpenter Train Station
URL:https://wman.net/event/fridays-at-the-ecolab/2024-11-29/
LOCATION:Carpenter Lane Station\, 201 Carpenter Lane\, Philadelphia\, PA\, 19119\, United States
CATEGORIES:Family
ATTACH;FMTTYPE=image/png:https://wman.net/wp-content/uploads/2024/05/Copy-of-Fridays-at-the-Mt.-Airy-EcoLab.png
ORGANIZER;CN="WMAN":MAILTO:josephine.winter@wman.net
END:VEVENT
BEGIN:VEVENT
DTSTART;TZID=America/New_York:20241122T180000
DTEND;TZID=America/New_York:20241122T200000
DTSTAMP:20260419T131929
CREATED:20240509T175939Z
LAST-MODIFIED:20240820T184005Z
UID:10000182-1732298400-1732305600@wman.net
SUMMARY:Fridays at the EcoLab
DESCRIPTION:We are getting together to work on the Mt. Airy EcoLab\, enjoy the space\, and eat a sweet treat. \nFridays from 6:00 – 8:00 pm at the Mt. Airy EcoLab at Carpenter Train Station
URL:https://wman.net/event/fridays-at-the-ecolab/2024-11-22/
LOCATION:Carpenter Lane Station\, 201 Carpenter Lane\, Philadelphia\, PA\, 19119\, United States
CATEGORIES:Family
ATTACH;FMTTYPE=image/png:https://wman.net/wp-content/uploads/2024/05/Copy-of-Fridays-at-the-Mt.-Airy-EcoLab.png
ORGANIZER;CN="WMAN":MAILTO:josephine.winter@wman.net
END:VEVENT
BEGIN:VEVENT
DTSTART;TZID=America/New_York:20241115T180000
DTEND;TZID=America/New_York:20241115T200000
DTSTAMP:20260419T131929
CREATED:20240509T175939Z
LAST-MODIFIED:20240820T184005Z
UID:10000181-1731693600-1731700800@wman.net
SUMMARY:Fridays at the EcoLab
DESCRIPTION:We are getting together to work on the Mt. Airy EcoLab\, enjoy the space\, and eat a sweet treat. \nFridays from 6:00 – 8:00 pm at the Mt. Airy EcoLab at Carpenter Train Station
URL:https://wman.net/event/fridays-at-the-ecolab/2024-11-15/
LOCATION:Carpenter Lane Station\, 201 Carpenter Lane\, Philadelphia\, PA\, 19119\, United States
CATEGORIES:Family
ATTACH;FMTTYPE=image/png:https://wman.net/wp-content/uploads/2024/05/Copy-of-Fridays-at-the-Mt.-Airy-EcoLab.png
ORGANIZER;CN="WMAN":MAILTO:josephine.winter@wman.net
END:VEVENT
BEGIN:VEVENT
DTSTART;TZID=America/New_York:20241108T180000
DTEND;TZID=America/New_York:20241108T200000
DTSTAMP:20260419T131929
CREATED:20240509T175939Z
LAST-MODIFIED:20240820T184005Z
UID:10000180-1731088800-1731096000@wman.net
SUMMARY:Fridays at the EcoLab
DESCRIPTION:We are getting together to work on the Mt. Airy EcoLab\, enjoy the space\, and eat a sweet treat. \nFridays from 6:00 – 8:00 pm at the Mt. Airy EcoLab at Carpenter Train Station
URL:https://wman.net/event/fridays-at-the-ecolab/2024-11-08/
LOCATION:Carpenter Lane Station\, 201 Carpenter Lane\, Philadelphia\, PA\, 19119\, United States
CATEGORIES:Family
ATTACH;FMTTYPE=image/png:https://wman.net/wp-content/uploads/2024/05/Copy-of-Fridays-at-the-Mt.-Airy-EcoLab.png
ORGANIZER;CN="WMAN":MAILTO:josephine.winter@wman.net
END:VEVENT
BEGIN:VEVENT
DTSTART;TZID=America/New_York:20241101T180000
DTEND;TZID=America/New_York:20241101T200000
DTSTAMP:20260419T131929
CREATED:20240509T175939Z
LAST-MODIFIED:20240820T184005Z
UID:10000179-1730484000-1730491200@wman.net
SUMMARY:Fridays at the EcoLab
DESCRIPTION:We are getting together to work on the Mt. Airy EcoLab\, enjoy the space\, and eat a sweet treat. \nFridays from 6:00 – 8:00 pm at the Mt. Airy EcoLab at Carpenter Train Station
URL:https://wman.net/event/fridays-at-the-ecolab/2024-11-01/
LOCATION:Carpenter Lane Station\, 201 Carpenter Lane\, Philadelphia\, PA\, 19119\, United States
CATEGORIES:Family
ATTACH;FMTTYPE=image/png:https://wman.net/wp-content/uploads/2024/05/Copy-of-Fridays-at-the-Mt.-Airy-EcoLab.png
ORGANIZER;CN="WMAN":MAILTO:josephine.winter@wman.net
END:VEVENT
BEGIN:VEVENT
DTSTART;TZID=America/New_York:20241025T180000
DTEND;TZID=America/New_York:20241025T200000
DTSTAMP:20260419T131929
CREATED:20240509T175939Z
LAST-MODIFIED:20240820T184005Z
UID:10000178-1729879200-1729886400@wman.net
SUMMARY:Fridays at the EcoLab
DESCRIPTION:We are getting together to work on the Mt. Airy EcoLab\, enjoy the space\, and eat a sweet treat. \nFridays from 6:00 – 8:00 pm at the Mt. Airy EcoLab at Carpenter Train Station
URL:https://wman.net/event/fridays-at-the-ecolab/2024-10-25/
LOCATION:Carpenter Lane Station\, 201 Carpenter Lane\, Philadelphia\, PA\, 19119\, United States
CATEGORIES:Family
ATTACH;FMTTYPE=image/png:https://wman.net/wp-content/uploads/2024/05/Copy-of-Fridays-at-the-Mt.-Airy-EcoLab.png
ORGANIZER;CN="WMAN":MAILTO:josephine.winter@wman.net
END:VEVENT
BEGIN:VEVENT
DTSTART;TZID=America/New_York:20241018T180000
DTEND;TZID=America/New_York:20241018T200000
DTSTAMP:20260419T131929
CREATED:20240509T175939Z
LAST-MODIFIED:20240820T184005Z
UID:10000177-1729274400-1729281600@wman.net
SUMMARY:Fridays at the EcoLab
DESCRIPTION:We are getting together to work on the Mt. Airy EcoLab\, enjoy the space\, and eat a sweet treat. \nFridays from 6:00 – 8:00 pm at the Mt. Airy EcoLab at Carpenter Train Station
URL:https://wman.net/event/fridays-at-the-ecolab/2024-10-18/
LOCATION:Carpenter Lane Station\, 201 Carpenter Lane\, Philadelphia\, PA\, 19119\, United States
CATEGORIES:Family
ATTACH;FMTTYPE=image/png:https://wman.net/wp-content/uploads/2024/05/Copy-of-Fridays-at-the-Mt.-Airy-EcoLab.png
ORGANIZER;CN="WMAN":MAILTO:josephine.winter@wman.net
END:VEVENT
BEGIN:VEVENT
DTSTART;TZID=America/New_York:20241011T180000
DTEND;TZID=America/New_York:20241011T200000
DTSTAMP:20260419T131929
CREATED:20240509T175939Z
LAST-MODIFIED:20240820T184005Z
UID:10000176-1728669600-1728676800@wman.net
SUMMARY:Fridays at the EcoLab
DESCRIPTION:We are getting together to work on the Mt. Airy EcoLab\, enjoy the space\, and eat a sweet treat. \nFridays from 6:00 – 8:00 pm at the Mt. Airy EcoLab at Carpenter Train Station
URL:https://wman.net/event/fridays-at-the-ecolab/2024-10-11/
LOCATION:Carpenter Lane Station\, 201 Carpenter Lane\, Philadelphia\, PA\, 19119\, United States
CATEGORIES:Family
ATTACH;FMTTYPE=image/png:https://wman.net/wp-content/uploads/2024/05/Copy-of-Fridays-at-the-Mt.-Airy-EcoLab.png
ORGANIZER;CN="WMAN":MAILTO:josephine.winter@wman.net
END:VEVENT
BEGIN:VEVENT
DTSTART;TZID=America/New_York:20241004T180000
DTEND;TZID=America/New_York:20241004T200000
DTSTAMP:20260419T131929
CREATED:20240509T175939Z
LAST-MODIFIED:20240820T184005Z
UID:10000175-1728064800-1728072000@wman.net
SUMMARY:Fridays at the EcoLab
DESCRIPTION:We are getting together to work on the Mt. Airy EcoLab\, enjoy the space\, and eat a sweet treat. \nFridays from 6:00 – 8:00 pm at the Mt. Airy EcoLab at Carpenter Train Station
URL:https://wman.net/event/fridays-at-the-ecolab/2024-10-04/
LOCATION:Carpenter Lane Station\, 201 Carpenter Lane\, Philadelphia\, PA\, 19119\, United States
CATEGORIES:Family
ATTACH;FMTTYPE=image/png:https://wman.net/wp-content/uploads/2024/05/Copy-of-Fridays-at-the-Mt.-Airy-EcoLab.png
ORGANIZER;CN="WMAN":MAILTO:josephine.winter@wman.net
END:VEVENT
BEGIN:VEVENT
DTSTART;TZID=America/New_York:20240927T180000
DTEND;TZID=America/New_York:20240927T200000
DTSTAMP:20260419T131929
CREATED:20240509T175939Z
LAST-MODIFIED:20240820T184005Z
UID:10000174-1727460000-1727467200@wman.net
SUMMARY:Fridays at the EcoLab
DESCRIPTION:We are getting together to work on the Mt. Airy EcoLab\, enjoy the space\, and eat a sweet treat. \nFridays from 6:00 – 8:00 pm at the Mt. Airy EcoLab at Carpenter Train Station
URL:https://wman.net/event/fridays-at-the-ecolab/2024-09-27/
LOCATION:Carpenter Lane Station\, 201 Carpenter Lane\, Philadelphia\, PA\, 19119\, United States
CATEGORIES:Family
ATTACH;FMTTYPE=image/png:https://wman.net/wp-content/uploads/2024/05/Copy-of-Fridays-at-the-Mt.-Airy-EcoLab.png
ORGANIZER;CN="WMAN":MAILTO:josephine.winter@wman.net
END:VEVENT
BEGIN:VEVENT
DTSTART;TZID=America/New_York:20240920T180000
DTEND;TZID=America/New_York:20240920T200000
DTSTAMP:20260419T131929
CREATED:20240509T175939Z
LAST-MODIFIED:20240820T184005Z
UID:10000173-1726855200-1726862400@wman.net
SUMMARY:Fridays at the EcoLab
DESCRIPTION:We are getting together to work on the Mt. Airy EcoLab\, enjoy the space\, and eat a sweet treat. \nFridays from 6:00 – 8:00 pm at the Mt. Airy EcoLab at Carpenter Train Station
URL:https://wman.net/event/fridays-at-the-ecolab/2024-09-20/
LOCATION:Carpenter Lane Station\, 201 Carpenter Lane\, Philadelphia\, PA\, 19119\, United States
CATEGORIES:Family
ATTACH;FMTTYPE=image/png:https://wman.net/wp-content/uploads/2024/05/Copy-of-Fridays-at-the-Mt.-Airy-EcoLab.png
ORGANIZER;CN="WMAN":MAILTO:josephine.winter@wman.net
END:VEVENT
BEGIN:VEVENT
DTSTART;TZID=America/New_York:20240913T180000
DTEND;TZID=America/New_York:20240913T200000
DTSTAMP:20260419T131929
CREATED:20240509T175939Z
LAST-MODIFIED:20240820T184005Z
UID:10000172-1726250400-1726257600@wman.net
SUMMARY:Fridays at the EcoLab
DESCRIPTION:We are getting together to work on the Mt. Airy EcoLab\, enjoy the space\, and eat a sweet treat. \nFridays from 6:00 – 8:00 pm at the Mt. Airy EcoLab at Carpenter Train Station
URL:https://wman.net/event/fridays-at-the-ecolab/2024-09-13/
LOCATION:Carpenter Lane Station\, 201 Carpenter Lane\, Philadelphia\, PA\, 19119\, United States
CATEGORIES:Family
ATTACH;FMTTYPE=image/png:https://wman.net/wp-content/uploads/2024/05/Copy-of-Fridays-at-the-Mt.-Airy-EcoLab.png
ORGANIZER;CN="WMAN":MAILTO:josephine.winter@wman.net
END:VEVENT
BEGIN:VEVENT
DTSTART;TZID=America/New_York:20240906T180000
DTEND;TZID=America/New_York:20240906T200000
DTSTAMP:20260419T131929
CREATED:20240509T175939Z
LAST-MODIFIED:20240820T184005Z
UID:10000171-1725645600-1725652800@wman.net
SUMMARY:Fridays at the EcoLab
DESCRIPTION:We are getting together to work on the Mt. Airy EcoLab\, enjoy the space\, and eat a sweet treat. \nFridays from 6:00 – 8:00 pm at the Mt. Airy EcoLab at Carpenter Train Station
URL:https://wman.net/event/fridays-at-the-ecolab/2024-09-06/
LOCATION:Carpenter Lane Station\, 201 Carpenter Lane\, Philadelphia\, PA\, 19119\, United States
CATEGORIES:Family
ATTACH;FMTTYPE=image/png:https://wman.net/wp-content/uploads/2024/05/Copy-of-Fridays-at-the-Mt.-Airy-EcoLab.png
ORGANIZER;CN="WMAN":MAILTO:josephine.winter@wman.net
END:VEVENT
BEGIN:VEVENT
DTSTART;TZID=America/New_York:20240830T180000
DTEND;TZID=America/New_York:20240830T200000
DTSTAMP:20260419T131929
CREATED:20240509T175939Z
LAST-MODIFIED:20240820T184005Z
UID:10000170-1725040800-1725048000@wman.net
SUMMARY:Fridays at the EcoLab
DESCRIPTION:We are getting together to work on the Mt. Airy EcoLab\, enjoy the space\, and eat a sweet treat. \nFridays from 6:00 – 8:00 pm at the Mt. Airy EcoLab at Carpenter Train Station
URL:https://wman.net/event/fridays-at-the-ecolab/2024-08-30/
LOCATION:Carpenter Lane Station\, 201 Carpenter Lane\, Philadelphia\, PA\, 19119\, United States
CATEGORIES:Family
ATTACH;FMTTYPE=image/png:https://wman.net/wp-content/uploads/2024/05/Copy-of-Fridays-at-the-Mt.-Airy-EcoLab.png
ORGANIZER;CN="WMAN":MAILTO:josephine.winter@wman.net
END:VEVENT
BEGIN:VEVENT
DTSTART;TZID=America/New_York:20240823T180000
DTEND;TZID=America/New_York:20240823T200000
DTSTAMP:20260419T131929
CREATED:20240509T175939Z
LAST-MODIFIED:20240820T184005Z
UID:10000169-1724436000-1724443200@wman.net
SUMMARY:Fridays at the EcoLab
DESCRIPTION:We are getting together to work on the Mt. Airy EcoLab\, enjoy the space\, and eat a sweet treat. \nFridays from 6:00 – 8:00 pm at the Mt. Airy EcoLab at Carpenter Train Station
URL:https://wman.net/event/fridays-at-the-ecolab/2024-08-23/
LOCATION:Carpenter Lane Station\, 201 Carpenter Lane\, Philadelphia\, PA\, 19119\, United States
CATEGORIES:Family
ATTACH;FMTTYPE=image/png:https://wman.net/wp-content/uploads/2024/05/Copy-of-Fridays-at-the-Mt.-Airy-EcoLab.png
ORGANIZER;CN="WMAN":MAILTO:josephine.winter@wman.net
END:VEVENT
BEGIN:VEVENT
DTSTART;TZID=America/New_York:20240816T180000
DTEND;TZID=America/New_York:20240816T200000
DTSTAMP:20260419T131929
CREATED:20240509T175939Z
LAST-MODIFIED:20240820T184005Z
UID:10000168-1723831200-1723838400@wman.net
SUMMARY:Fridays at the EcoLab
DESCRIPTION:We are getting together to work on the Mt. Airy EcoLab\, enjoy the space\, and eat a sweet treat. \nFridays from 6:00 – 8:00 pm at the Mt. Airy EcoLab at Carpenter Train Station
URL:https://wman.net/event/fridays-at-the-ecolab/2024-08-16/
LOCATION:Carpenter Lane Station\, 201 Carpenter Lane\, Philadelphia\, PA\, 19119\, United States
CATEGORIES:Family
ATTACH;FMTTYPE=image/png:https://wman.net/wp-content/uploads/2024/05/Copy-of-Fridays-at-the-Mt.-Airy-EcoLab.png
ORGANIZER;CN="WMAN":MAILTO:josephine.winter@wman.net
END:VEVENT
BEGIN:VEVENT
DTSTART;TZID=America/New_York:20240809T180000
DTEND;TZID=America/New_York:20240809T200000
DTSTAMP:20260419T131929
CREATED:20240509T175939Z
LAST-MODIFIED:20240820T184005Z
UID:10000167-1723226400-1723233600@wman.net
SUMMARY:Fridays at the EcoLab
DESCRIPTION:We are getting together to work on the Mt. Airy EcoLab\, enjoy the space\, and eat a sweet treat. \nFridays from 6:00 – 8:00 pm at the Mt. Airy EcoLab at Carpenter Train Station
URL:https://wman.net/event/fridays-at-the-ecolab/2024-08-09/
LOCATION:Carpenter Lane Station\, 201 Carpenter Lane\, Philadelphia\, PA\, 19119\, United States
CATEGORIES:Family
ATTACH;FMTTYPE=image/png:https://wman.net/wp-content/uploads/2024/05/Copy-of-Fridays-at-the-Mt.-Airy-EcoLab.png
ORGANIZER;CN="WMAN":MAILTO:josephine.winter@wman.net
END:VEVENT
BEGIN:VEVENT
DTSTART;TZID=America/New_York:20240802T180000
DTEND;TZID=America/New_York:20240802T200000
DTSTAMP:20260419T131929
CREATED:20240509T175939Z
LAST-MODIFIED:20240820T184005Z
UID:10000166-1722621600-1722628800@wman.net
SUMMARY:Fridays at the EcoLab
DESCRIPTION:We are getting together to work on the Mt. Airy EcoLab\, enjoy the space\, and eat a sweet treat. \nFridays from 6:00 – 8:00 pm at the Mt. Airy EcoLab at Carpenter Train Station
URL:https://wman.net/event/fridays-at-the-ecolab/2024-08-02/
LOCATION:Carpenter Lane Station\, 201 Carpenter Lane\, Philadelphia\, PA\, 19119\, United States
CATEGORIES:Family
ATTACH;FMTTYPE=image/png:https://wman.net/wp-content/uploads/2024/05/Copy-of-Fridays-at-the-Mt.-Airy-EcoLab.png
ORGANIZER;CN="WMAN":MAILTO:josephine.winter@wman.net
END:VEVENT
BEGIN:VEVENT
DTSTART;TZID=America/New_York:20240726T180000
DTEND;TZID=America/New_York:20240726T200000
DTSTAMP:20260419T131929
CREATED:20240509T175939Z
LAST-MODIFIED:20240820T184005Z
UID:10000142-1722016800-1722024000@wman.net
SUMMARY:Fridays at the EcoLab
DESCRIPTION:We are getting together to work on the Mt. Airy EcoLab\, enjoy the space\, and eat a sweet treat. \nFridays from 6:00 – 8:00 pm at the Mt. Airy EcoLab at Carpenter Train Station
URL:https://wman.net/event/fridays-at-the-ecolab/2024-07-26/
LOCATION:Carpenter Lane Station\, 201 Carpenter Lane\, Philadelphia\, PA\, 19119\, United States
CATEGORIES:Family
ATTACH;FMTTYPE=image/png:https://wman.net/wp-content/uploads/2024/05/Copy-of-Fridays-at-the-Mt.-Airy-EcoLab.png
ORGANIZER;CN="WMAN":MAILTO:josephine.winter@wman.net
END:VEVENT
BEGIN:VEVENT
DTSTART;TZID=America/New_York:20240719T180000
DTEND;TZID=America/New_York:20240719T200000
DTSTAMP:20260419T131929
CREATED:20240509T175939Z
LAST-MODIFIED:20240820T184005Z
UID:10000141-1721412000-1721419200@wman.net
SUMMARY:Fridays at the EcoLab
DESCRIPTION:We are getting together to work on the Mt. Airy EcoLab\, enjoy the space\, and eat a sweet treat. \nFridays from 6:00 – 8:00 pm at the Mt. Airy EcoLab at Carpenter Train Station
URL:https://wman.net/event/fridays-at-the-ecolab/2024-07-19/
LOCATION:Carpenter Lane Station\, 201 Carpenter Lane\, Philadelphia\, PA\, 19119\, United States
CATEGORIES:Family
ATTACH;FMTTYPE=image/png:https://wman.net/wp-content/uploads/2024/05/Copy-of-Fridays-at-the-Mt.-Airy-EcoLab.png
ORGANIZER;CN="WMAN":MAILTO:josephine.winter@wman.net
END:VEVENT
BEGIN:VEVENT
DTSTART;TZID=America/New_York:20240712T180000
DTEND;TZID=America/New_York:20240712T200000
DTSTAMP:20260419T131929
CREATED:20240509T175939Z
LAST-MODIFIED:20240820T184005Z
UID:10000140-1720807200-1720814400@wman.net
SUMMARY:Fridays at the EcoLab
DESCRIPTION:We are getting together to work on the Mt. Airy EcoLab\, enjoy the space\, and eat a sweet treat. \nFridays from 6:00 – 8:00 pm at the Mt. Airy EcoLab at Carpenter Train Station
URL:https://wman.net/event/fridays-at-the-ecolab/2024-07-12/
LOCATION:Carpenter Lane Station\, 201 Carpenter Lane\, Philadelphia\, PA\, 19119\, United States
CATEGORIES:Family
ATTACH;FMTTYPE=image/png:https://wman.net/wp-content/uploads/2024/05/Copy-of-Fridays-at-the-Mt.-Airy-EcoLab.png
ORGANIZER;CN="WMAN":MAILTO:josephine.winter@wman.net
END:VEVENT
BEGIN:VEVENT
DTSTART;TZID=America/New_York:20240705T180000
DTEND;TZID=America/New_York:20240705T200000
DTSTAMP:20260419T131929
CREATED:20240509T175939Z
LAST-MODIFIED:20240820T184005Z
UID:10000139-1720202400-1720209600@wman.net
SUMMARY:Fridays at the EcoLab
DESCRIPTION:We are getting together to work on the Mt. Airy EcoLab\, enjoy the space\, and eat a sweet treat. \nFridays from 6:00 – 8:00 pm at the Mt. Airy EcoLab at Carpenter Train Station
URL:https://wman.net/event/fridays-at-the-ecolab/2024-07-05/
LOCATION:Carpenter Lane Station\, 201 Carpenter Lane\, Philadelphia\, PA\, 19119\, United States
CATEGORIES:Family
ATTACH;FMTTYPE=image/png:https://wman.net/wp-content/uploads/2024/05/Copy-of-Fridays-at-the-Mt.-Airy-EcoLab.png
ORGANIZER;CN="WMAN":MAILTO:josephine.winter@wman.net
END:VEVENT
BEGIN:VEVENT
DTSTART;TZID=America/New_York:20240628T180000
DTEND;TZID=America/New_York:20240628T200000
DTSTAMP:20260419T131929
CREATED:20240509T175939Z
LAST-MODIFIED:20240820T184005Z
UID:10000138-1719597600-1719604800@wman.net
SUMMARY:Fridays at the EcoLab
DESCRIPTION:We are getting together to work on the Mt. Airy EcoLab\, enjoy the space\, and eat a sweet treat. \nFridays from 6:00 – 8:00 pm at the Mt. Airy EcoLab at Carpenter Train Station
URL:https://wman.net/event/fridays-at-the-ecolab/2024-06-28/
LOCATION:Carpenter Lane Station\, 201 Carpenter Lane\, Philadelphia\, PA\, 19119\, United States
CATEGORIES:Family
ATTACH;FMTTYPE=image/png:https://wman.net/wp-content/uploads/2024/05/Copy-of-Fridays-at-the-Mt.-Airy-EcoLab.png
ORGANIZER;CN="WMAN":MAILTO:josephine.winter@wman.net
END:VEVENT
BEGIN:VEVENT
DTSTART;TZID=America/New_York:20240621T180000
DTEND;TZID=America/New_York:20240621T200000
DTSTAMP:20260419T131929
CREATED:20240509T175939Z
LAST-MODIFIED:20240820T184005Z
UID:10000137-1718992800-1719000000@wman.net
SUMMARY:Fridays at the EcoLab
DESCRIPTION:We are getting together to work on the Mt. Airy EcoLab\, enjoy the space\, and eat a sweet treat. \nFridays from 6:00 – 8:00 pm at the Mt. Airy EcoLab at Carpenter Train Station
URL:https://wman.net/event/fridays-at-the-ecolab/2024-06-21/
LOCATION:Carpenter Lane Station\, 201 Carpenter Lane\, Philadelphia\, PA\, 19119\, United States
CATEGORIES:Family
ATTACH;FMTTYPE=image/png:https://wman.net/wp-content/uploads/2024/05/Copy-of-Fridays-at-the-Mt.-Airy-EcoLab.png
ORGANIZER;CN="WMAN":MAILTO:josephine.winter@wman.net
END:VEVENT
BEGIN:VEVENT
DTSTART;TZID=America/New_York:20240614T180000
DTEND;TZID=America/New_York:20240614T200000
DTSTAMP:20260419T131929
CREATED:20240509T175939Z
LAST-MODIFIED:20240820T184005Z
UID:10000136-1718388000-1718395200@wman.net
SUMMARY:Fridays at the EcoLab
DESCRIPTION:We are getting together to work on the Mt. Airy EcoLab\, enjoy the space\, and eat a sweet treat. \nFridays from 6:00 – 8:00 pm at the Mt. Airy EcoLab at Carpenter Train Station
URL:https://wman.net/event/fridays-at-the-ecolab/2024-06-14/
LOCATION:Carpenter Lane Station\, 201 Carpenter Lane\, Philadelphia\, PA\, 19119\, United States
CATEGORIES:Family
ATTACH;FMTTYPE=image/png:https://wman.net/wp-content/uploads/2024/05/Copy-of-Fridays-at-the-Mt.-Airy-EcoLab.png
ORGANIZER;CN="WMAN":MAILTO:josephine.winter@wman.net
END:VEVENT
BEGIN:VEVENT
DTSTART;TZID=America/New_York:20240607T180000
DTEND;TZID=America/New_York:20240607T200000
DTSTAMP:20260419T131929
CREATED:20240509T175939Z
LAST-MODIFIED:20240820T184005Z
UID:10000135-1717783200-1717790400@wman.net
SUMMARY:Fridays at the EcoLab
DESCRIPTION:We are getting together to work on the Mt. Airy EcoLab\, enjoy the space\, and eat a sweet treat. \nFridays from 6:00 – 8:00 pm at the Mt. Airy EcoLab at Carpenter Train Station
URL:https://wman.net/event/fridays-at-the-ecolab/2024-06-07/
LOCATION:Carpenter Lane Station\, 201 Carpenter Lane\, Philadelphia\, PA\, 19119\, United States
CATEGORIES:Family
ATTACH;FMTTYPE=image/png:https://wman.net/wp-content/uploads/2024/05/Copy-of-Fridays-at-the-Mt.-Airy-EcoLab.png
ORGANIZER;CN="WMAN":MAILTO:josephine.winter@wman.net
END:VEVENT
BEGIN:VEVENT
DTSTART;TZID=America/New_York:20240601T110000
DTEND;TZID=America/New_York:20240601T160000
DTSTAMP:20260419T131929
CREATED:20240605T204248Z
LAST-MODIFIED:20240605T204248Z
UID:10000148-1717239600-1717257600@wman.net
SUMMARY:Historic Rittenhouse Town Fair
DESCRIPTION:TownFair\, hosted annually is a free community-oriented event that promotes local artists\, health\, and wellness and celebrates the unique cultural history of this national landmark site. Guests will explore our 20-acre arboretum site and visit with local artists and vendors. The celebration will include traditional hearth cooking and paper making in addition to therapeutic and wellness-based activities. Located as a trailhead into the Wissahickon Valley Park\, Historic RittenhouseTown\, is a well-traveled and loved Parks and Recreation site and one of Philadelphia’s most important historical cultural resources.
URL:https://wman.net/event/historic-rittenhouse-town-fair/
LOCATION:Historic Rittenhouse Town\, 208 Lincoln Dr\, Philadelphia\, PA\, 19144\, United States
CATEGORIES:Family
ATTACH;FMTTYPE=image/png:https://wman.net/wp-content/uploads/2024/05/HRT_Yard_Sign_2.png
ORGANIZER;CN="historic rittenhouse town":MAILTO:alex@rittenhousetown.org
END:VEVENT
BEGIN:VEVENT
DTSTART;TZID=America/New_York:20240531T180000
DTEND;TZID=America/New_York:20240531T200000
DTSTAMP:20260419T131929
CREATED:20240509T175939Z
LAST-MODIFIED:20240820T184005Z
UID:10000134-1717178400-1717185600@wman.net
SUMMARY:Fridays at the EcoLab
DESCRIPTION:We are getting together to work on the Mt. Airy EcoLab\, enjoy the space\, and eat a sweet treat. \nFridays from 6:00 – 8:00 pm at the Mt. Airy EcoLab at Carpenter Train Station
URL:https://wman.net/event/fridays-at-the-ecolab/2024-05-31/
LOCATION:Carpenter Lane Station\, 201 Carpenter Lane\, Philadelphia\, PA\, 19119\, United States
CATEGORIES:Family
ATTACH;FMTTYPE=image/png:https://wman.net/wp-content/uploads/2024/05/Copy-of-Fridays-at-the-Mt.-Airy-EcoLab.png
ORGANIZER;CN="WMAN":MAILTO:josephine.winter@wman.net
END:VEVENT
BEGIN:VEVENT
DTSTART;TZID=America/New_York:20240524T180000
DTEND;TZID=America/New_York:20240524T200000
DTSTAMP:20260419T131929
CREATED:20240509T175939Z
LAST-MODIFIED:20240820T184005Z
UID:10000133-1716573600-1716580800@wman.net
SUMMARY:Fridays at the EcoLab
DESCRIPTION:We are getting together to work on the Mt. Airy EcoLab\, enjoy the space\, and eat a sweet treat. \nFridays from 6:00 – 8:00 pm at the Mt. Airy EcoLab at Carpenter Train Station
URL:https://wman.net/event/fridays-at-the-ecolab/2024-05-24/
LOCATION:Carpenter Lane Station\, 201 Carpenter Lane\, Philadelphia\, PA\, 19119\, United States
CATEGORIES:Family
ATTACH;FMTTYPE=image/png:https://wman.net/wp-content/uploads/2024/05/Copy-of-Fridays-at-the-Mt.-Airy-EcoLab.png
ORGANIZER;CN="WMAN":MAILTO:josephine.winter@wman.net
END:VEVENT
BEGIN:VEVENT
DTSTART;TZID=America/New_York:20240519T150000
DTEND;TZID=America/New_York:20240519T170000
DTSTAMP:20260419T131929
CREATED:20240425T144834Z
LAST-MODIFIED:20240425T144847Z
UID:10000125-1716130800-1716138000@wman.net
SUMMARY:Danny's House 1-mile Walk & Talk with the Goats! Fundraiser in the Wissahickon
DESCRIPTION:Join us for our Danny’s House 1-mile Walk & Talk Fundraiser\nAnd walk with the Goats! of the Philly Goat Project!\nSunday\, May 19\, 2024\n3-5 pm\nForbidden Drive\, Northwestern Ave Entrance\n$15 adult\, $10 child\, Free under 3\nwww.dannys-house.org
URL:https://wman.net/event/dannys-house-1-mile-walk-talk-with-the-goats-fundraiser-in-the-wissahickon-2/
LOCATION:Forbidden Drive\, Northwestern Ave Entrance\, 200 Northwestern Ave\, Philadelphia\, PA\, 19119\, United States
CATEGORIES:Family
ATTACH;FMTTYPE=image/png:https://wman.net/wp-content/uploads/2024/04/all-info-dannys-house-walk-and-talk-2024.png
END:VEVENT
END:VCALENDAR